BEGIN:VCALENDAR
VERSION:2.0
PRODID:-//RIGHTHERE//CALENDARIZE IT V3.2//EN
BEGIN:VTIMEZONE
TZID:Europe/Rome
BEGIN:STANDARD
DTSTART:20251026T010000
TZOFFSETFROM:+0200
TZOFFSETTO:+0100
TZNAME:CET
END:STANDARD
BEGIN:DAYLIGHT
DTSTART:20260329T010000
TZOFFSETFROM:+0100
TZOFFSETTO:+0200
TZNAME:CEST
END:DAYLIGHT
BEGIN:STANDARD
DTSTART:20261025T010000
TZOFFSETFROM:+0200
TZOFFSETTO:+0100
TZNAME:CET
END:STANDARD
END:VTIMEZONE
BEGIN:VEVENT
UID:18152-events@bologna.federmanager.it
DTSTART;TZID=Europe/Rome:20260511T100000
DTEND;TZID=Europe/Rome:20260511T130000
DTSTAMP;TZID=Europe/Rome:20260105T113051
SUMMARY:Business Intelligence per il Management delle PMI
DESCRIPTION:Business Intelligence per il Management delle PMI è un corso d
 i formazione manageriale on line organizzato da Fondazione IDI e Universit
 à Cattolica del Sacro Cuore\, promosso da Federmanager Bologna – Ferrar
 a – Ravenna.\nArticolato in quattro moduli\, è progettato per fornire c
 ompetenze operative e concettuali nella rappresentazione\, analisi e comun
 icazione visiva di dati qualitativi e quantitativi a supporto dei processi
 decisionali aziendali.\nIl corso si concentra in particolare sulla Data Vi
 sualization e sull’utilizzo del software Microsoft Power BI\, con l’ob
 iettivo di insegnare ai partecipanti come importare dati da diverse fonti\
 , armonizzarli\, modellarli e analizzarli\, al fine di costruire report di
 namici e dashboard di controllo interattivi per il management delle PMI.\n
 Prevede 12 ore di didattica a distanza\, strutturate in quattro moduli di 
 3 ore ciascuno\, che si svolgeranno dall’11 maggio al 3 giugno 2026.
RDATE;TZID=Europe/Rome;VALUE=PERIOD:20260518T100000/20260518T130000,2026052
 5T100000/20260525T130000,20260603T100000/20260603T130000
URL:https://bologna.federmanager.it/events/business-intelligence-per-pmi/
ORGANIZER;CN=Fondazione IDI:
END:VEVENT
END:VCALENDAR