BEGIN:VCALENDAR
VERSION:2.0
PRODID:-//RIGHTHERE//CALENDARIZE IT V3.2//EN
BEGIN:VTIMEZONE
TZID:Europe/Rome
BEGIN:STANDARD
DTSTART:20251026T010000
TZOFFSETFROM:+0200
TZOFFSETTO:+0100
TZNAME:CET
END:STANDARD
BEGIN:DAYLIGHT
DTSTART:20260329T010000
TZOFFSETFROM:+0100
TZOFFSETTO:+0200
TZNAME:CEST
END:DAYLIGHT
BEGIN:STANDARD
DTSTART:20261025T010000
TZOFFSETFROM:+0200
TZOFFSETTO:+0100
TZNAME:CET
END:STANDARD
END:VTIMEZONE
BEGIN:VEVENT
UID:18137-events@bologna.federmanager.it
DTSTART;TZID=Europe/Rome:20260907T093000
DTEND;TZID=Europe/Rome:20260907T130000
DTSTAMP;TZID=Europe/Rome:20260101T171312
SUMMARY:LE LEVE DEL VALORE: massimizzare la redditività delle tue commesse
 agendo su costi\, flussi di cassa e portafoglio di commesse
RDATE;TZID=Europe/Rome;VALUE=PERIOD:20260914T140000/20260914T173000
URL:https://bologna.federmanager.it/events/le-leve-del-valore/
ORGANIZER;CN=Fedemanager Bologna - Ferrara - Ravenna:
END:VEVENT
END:VCALENDAR