BEGIN:VCALENDAR
VERSION:2.0
PRODID:-//RIGHTHERE//CALENDARIZE IT V3.2//EN
BEGIN:VTIMEZONE
TZID:Europe/Rome
BEGIN:STANDARD
DTSTART:20251026T010000
TZOFFSETFROM:+0200
TZOFFSETTO:+0100
TZNAME:CET
END:STANDARD
BEGIN:DAYLIGHT
DTSTART:20260329T010000
TZOFFSETFROM:+0100
TZOFFSETTO:+0200
TZNAME:CEST
END:DAYLIGHT
BEGIN:STANDARD
DTSTART:20261025T010000
TZOFFSETFROM:+0200
TZOFFSETTO:+0100
TZNAME:CET
END:STANDARD
END:VTIMEZONE
BEGIN:VEVENT
UID:18134-events@bologna.federmanager.it
DTSTART;TZID=Europe/Rome:20260716T093000
DTEND;TZID=Europe/Rome:20260716T130000
DTSTAMP;TZID=Europe/Rome:20260101T165701
SUMMARY:LA GUIDA ESSENZIALE PER GESTIRE IL FLUSSO DI CASSA E GARANTIRE LA S
 OSTENIBILITA’ FINANZIARIA DELL’IMPRESA
RDATE;TZID=Europe/Rome;VALUE=PERIOD:20260720T093000/20260720T130000
URL:https://bologna.federmanager.it/events/guida-essenziale-per-flusso-di-c
 assa/
ORGANIZER;CN=Fedemanager Bologna - Ferrara - Ravenna:
END:VEVENT
END:VCALENDAR