BEGIN:VCALENDAR
VERSION:2.0
PRODID:-//RIGHTHERE//CALENDARIZE IT V3.2//EN
BEGIN:VTIMEZONE
TZID:Europe/Rome
BEGIN:STANDARD
DTSTART:20251026T010000
TZOFFSETFROM:+0200
TZOFFSETTO:+0100
TZNAME:CET
END:STANDARD
BEGIN:DAYLIGHT
DTSTART:20260329T010000
TZOFFSETFROM:+0100
TZOFFSETTO:+0200
TZNAME:CEST
END:DAYLIGHT
BEGIN:STANDARD
DTSTART:20261025T010000
TZOFFSETFROM:+0200
TZOFFSETTO:+0100
TZNAME:CET
END:STANDARD
END:VTIMEZONE
BEGIN:VEVENT
UID:17883-events@bologna.federmanager.it
DTSTART;TZID=Europe/Rome:20260128T170000
DTEND;TZID=Europe/Rome:20260128T200000
DTSTAMP;TZID=Europe/Rome:20260201T082113
SUMMARY:INTERGENERAZIONALITA’ IN AZIENDA
RDATE;TZID=Europe/Rome;VALUE=PERIOD:20260309T170000/20260309T200000
URL:https://bologna.federmanager.it/events/intergenerazionalita-in-azienda-
 2/
ORGANIZER;CN=Fedemanager Bologna - Ferrara - Ravenna:
LOCATION:Sala Serverino Ragazzini Ravenna
END:VEVENT
END:VCALENDAR