BEGIN:VCALENDAR
VERSION:2.0
PRODID:-//RIGHTHERE//CALENDARIZE IT V3.2//EN
BEGIN:VTIMEZONE
TZID:Europe/Rome
BEGIN:STANDARD
DTSTART:20251026T010000
TZOFFSETFROM:+0200
TZOFFSETTO:+0100
TZNAME:CET
END:STANDARD
BEGIN:DAYLIGHT
DTSTART:20260329T010000
TZOFFSETFROM:+0100
TZOFFSETTO:+0200
TZNAME:CEST
END:DAYLIGHT
BEGIN:STANDARD
DTSTART:20261025T010000
TZOFFSETFROM:+0200
TZOFFSETTO:+0100
TZNAME:CET
END:STANDARD
END:VTIMEZONE
BEGIN:VEVENT
UID:17184-events@bologna.federmanager.it
DTSTART;TZID=Europe/Rome:20250703T153000
DTEND;TZID=Europe/Rome:20250703T190000
DTSTAMP;TZID=Europe/Rome:20250604T090331
SUMMARY:LA PREVENZIONE DELLA CRISI DI IMPRESA (D. LGS. 14/2019)
DESCRIPTION:Questo Incontro di Studio vuole fornire ai gestori d’impresa 
 (imprenditori e manager) una panoramica operativa e aggiornata sulla norma
 tiva per la prevenzione della crisi di impresa (D. Lgs. 14/2019)\, evidenz
 iando obblighi legali\, responsabilità patrimoniali e strumenti di contro
 llo e monitoraggio.\nTemi principali trattati:\n	•	Obblighi e responsabi
 lità di amministratori e dirigenti nella gestione delle crisi aziendali\n
 •	Presidi organizzativi e informativi per il monitoraggio e la prevenzio
 ne\n	•	Strumenti di analisi e reportistica per identificare segnali prec
 oci di crisi\n	•	Esperienze concrete di aziende (tra cui Gruppo Maccafer
 ri e Gruppo Montenegro)\n	•	Utilizzo dell’intelligenza artificiale per
 affrontare rischi sistemici e imprevedibili.\nTra i Relatori avremo espert
 i del settore legale\, finanziario e gestionale\, tra cui avvocati\, consu
 lenti\, manager e amministratori d’azienda
URL:https://bologna.federmanager.it/events/la-prevenzione-della-crisi-di-im
 presa/
ORGANIZER;CN=ANDAF Emilia - Romagna:
LOCATION:Villa Clelia Bologna
END:VEVENT
END:VCALENDAR