BEGIN:VCALENDAR
VERSION:2.0
PRODID:-//RIGHTHERE//CALENDARIZE IT V3.2//EN
BEGIN:VTIMEZONE
TZID:Europe/Rome
BEGIN:STANDARD
DTSTART:20251026T010000
TZOFFSETFROM:+0200
TZOFFSETTO:+0100
TZNAME:CET
END:STANDARD
BEGIN:DAYLIGHT
DTSTART:20260329T010000
TZOFFSETFROM:+0100
TZOFFSETTO:+0200
TZNAME:CEST
END:DAYLIGHT
BEGIN:STANDARD
DTSTART:20261025T010000
TZOFFSETFROM:+0200
TZOFFSETTO:+0100
TZNAME:CET
END:STANDARD
END:VTIMEZONE
BEGIN:VEVENT
UID:16899-events@bologna.federmanager.it
DTSTART;TZID=Europe/Rome:20251103T093000
DTEND;TZID=Europe/Rome:20251103T130000
DTSTAMP;TZID=Europe/Rome:20250927T171243
SUMMARY:Indici e modelli per comprendere e prevenire la crisi d’impresa
DESCRIPTION:Indici e modelli per comprendere e prevenire la crisi d'impresa
 \, il corso di formazione organizzato da Fondazione IDI e promosso da Fede
 rmanager\, si svolgerà in due sessioni:\n1^ sessione 3 Novembre 2025 – 
 orario 9.30-13.00\n2^ sessione 10 Novembre 2025 – orario 9.30-13.00\ncon
 formula a distanza su piattaforma Zoom.
RDATE;TZID=Europe/Rome;VALUE=PERIOD:20251110T093000/20251110T130000
URL:https://bologna.federmanager.it/events/comprendere-la-crisi-dimpresa/
ORGANIZER;CN=Fondazione IDI:
END:VEVENT
END:VCALENDAR