BEGIN:VCALENDAR
VERSION:2.0
PRODID:-//RIGHTHERE//CALENDARIZE IT V3.2//EN
BEGIN:VTIMEZONE
TZID:Europe/Rome
BEGIN:STANDARD
DTSTART:20251026T010000
TZOFFSETFROM:+0200
TZOFFSETTO:+0100
TZNAME:CET
END:STANDARD
BEGIN:DAYLIGHT
DTSTART:20260329T010000
TZOFFSETFROM:+0100
TZOFFSETTO:+0200
TZNAME:CEST
END:DAYLIGHT
BEGIN:STANDARD
DTSTART:20261025T010000
TZOFFSETFROM:+0200
TZOFFSETTO:+0100
TZNAME:CET
END:STANDARD
END:VTIMEZONE
BEGIN:VEVENT
UID:16893-events@bologna.federmanager.it
DTSTART;TZID=Europe/Rome:20251104T090000
DTEND;TZID=Europe/Rome:20251104T130000
DTSTAMP;TZID=Europe/Rome:20250910T100043
SUMMARY:Intelligenza Artificiale negli ambienti di lavoro
DESCRIPTION:Intelligenza Artificiale negli ambienti di lavoro è un corso d
 i formazione organizzato da Fondazione IDI e promosso da Federmanager.\nSi
 svolgerà in due sessioni: 1^ sessione 4 Novembre 2025 – orario 9.00-13.
 00\, 2^ sessione 12 Novembre 2025 – orario 9.00-13.00\, con formula a di
 stanza su piattaforma Zoom.\n\nA che punto siamo con l’Intelligenza Arti
 ficiale? L’autorevole Contents.com ci permette un paragone interessante:
 “E’ come se stessimo utilizzando un modem a 56kb come facevamo negli a
 nni 90\, quando a portata di mano potremmo usare una linea ultraveloce a f
 ibra ottica.”\nLe aziende e gli utenti oggi utilizzano gli strumenti di 
 IA in percentuale estremamente bassa rispetto alle funzioni che naturalmen
 te potrebbero essere sfruttate\, questo prevalentemente per scarsa conosce
 nza o per difficoltà di applicazione alle funzioni aziendali.\nIl corso i
 ntende fornire strumenti di Awareness su IA e sull’utilizzo delle piatta
 forme attualmente a disposizione sul mercato sui processi aziendali.
RDATE;TZID=Europe/Rome;VALUE=PERIOD:20251112T090000/20251112T130000
URL:https://bologna.federmanager.it/events/intelligenza-artificiale-negli-a
 mbienti-di-lavoro/
ORGANIZER;CN=Fondazione IDI:
END:VEVENT
END:VCALENDAR