BEGIN:VCALENDAR
VERSION:2.0
PRODID:-//RIGHTHERE//CALENDARIZE IT V3.2//EN
BEGIN:VTIMEZONE
TZID:Europe/Rome
BEGIN:STANDARD
DTSTART:20251026T010000
TZOFFSETFROM:+0200
TZOFFSETTO:+0100
TZNAME:CET
END:STANDARD
BEGIN:DAYLIGHT
DTSTART:20260329T010000
TZOFFSETFROM:+0100
TZOFFSETTO:+0200
TZNAME:CEST
END:DAYLIGHT
BEGIN:STANDARD
DTSTART:20261025T010000
TZOFFSETFROM:+0200
TZOFFSETTO:+0100
TZNAME:CET
END:STANDARD
END:VTIMEZONE
BEGIN:VEVENT
UID:16881-events@bologna.federmanager.it
DTSTART;TZID=Europe/Rome:20250623T090000
DTEND;TZID=Europe/Rome:20250623T130000
DTSTAMP;TZID=Europe/Rome:20250601T162343
SUMMARY:Prevenire shortage con AI: assicurare continuità di fornitura e va
 lutare compliance del fornitore
DESCRIPTION:Prevenire shortage con AI è uno dei quattro corsi di formazion
 e manageriale organizzati da Fondazione IDI e promossi da Federmanager Bol
 ogna – Ferrara – Ravenna.\nCondizioni di partecipazione agevolate per 
 le associate e gli associati Federmanager.\nIl corso di formazione si svol
 gerà il 24 Giugno 2025\, dalle ore 9.00 alle 13.00\, in modalità a dista
 nza su piattaforma Zoom.
URL:https://bologna.federmanager.it/events/prevenire-shortage-con-ai/
ORGANIZER;CN=Fondazione IDI:
END:VEVENT
END:VCALENDAR