BEGIN:VCALENDAR
VERSION:2.0
PRODID:-//RIGHTHERE//CALENDARIZE IT V3.2//EN
BEGIN:VTIMEZONE
TZID:Europe/Rome
BEGIN:STANDARD
DTSTART:20251026T010000
TZOFFSETFROM:+0200
TZOFFSETTO:+0100
TZNAME:CET
END:STANDARD
BEGIN:DAYLIGHT
DTSTART:20260329T010000
TZOFFSETFROM:+0100
TZOFFSETTO:+0200
TZNAME:CEST
END:DAYLIGHT
BEGIN:STANDARD
DTSTART:20261025T010000
TZOFFSETFROM:+0200
TZOFFSETTO:+0100
TZNAME:CET
END:STANDARD
END:VTIMEZONE
BEGIN:VEVENT
UID:16876-events@bologna.federmanager.it
DTSTART;TZID=Europe/Rome:20250514T090000
DTEND;TZID=Europe/Rome:20250514T123000
DTSTAMP;TZID=Europe/Rome:20250302T153041
SUMMARY:Preparare e gestire gli incontri di vendita con il supporto dell’
 IA
DESCRIPTION:Incontri di vendita e IA è l'argomento del primo dei quattro c
 orsi di formazione manageriale organizzati da Fondazione IDI e promossi da
 Federmanager Bologna – Ferrara – Ravenna.\nCondizioni di partecipazion
 e agevolate per le associate e gli associati Federmanager.\nDue le session
 i formative previste:\n1^ sessione 14 Maggio 2025 – orario 9.00 - 12.30\
 n2^ sessione 21 Maggio 2025 – orario 9.00 - 12.30\ncon formula a distanz
 a su piattaforma Zoom.
RDATE;TZID=Europe/Rome;VALUE=PERIOD:20250521T090000/20250521T123000
URL:https://bologna.federmanager.it/events/preparare-e-gestire-gli-incontri
 -di-vendita-con-il-supporto-dellia/
ORGANIZER;CN=Fondazione IDI:
END:VEVENT
END:VCALENDAR