BEGIN:VCALENDAR
VERSION:2.0
PRODID:-//RIGHTHERE//CALENDARIZE IT V3.2//EN
BEGIN:VTIMEZONE
TZID:Europe/Rome
BEGIN:STANDARD
DTSTART:20251026T010000
TZOFFSETFROM:+0200
TZOFFSETTO:+0100
TZNAME:CET
END:STANDARD
BEGIN:DAYLIGHT
DTSTART:20260329T010000
TZOFFSETFROM:+0100
TZOFFSETTO:+0200
TZNAME:CEST
END:DAYLIGHT
BEGIN:STANDARD
DTSTART:20261025T010000
TZOFFSETFROM:+0200
TZOFFSETTO:+0100
TZNAME:CET
END:STANDARD
END:VTIMEZONE
BEGIN:VEVENT
UID:16562-events@bologna.federmanager.it
DTSTART;TZID=Europe/Rome:20250324T173000
DTEND;TZID=Europe/Rome:20250324T193000
DTSTAMP;TZID=Europe/Rome:20250206T111353
SUMMARY:SOSTENIBILITA’ E SVILUPPO DEL BUSINESS
DESCRIPTION:La Commissione Manager Evolution di Federmanager Bologna - Ferr
 ara - Ravenna e Camplus Alma Mater organizzano l'incontro gratuito\, previ
 a iscrizione\, ^'Sostenibilità e sviluppo del business\nCasi di successo 
 e competenze distintive di imprese eccellenti in Emilia-Romagna^'\, che si
 svolgerà Mercoledì 24 marzo 2025\, dalle 17.30 alle 19.30\, presso Campl
 us Alma Mater\, Via Giovanni Antonio Sacco 12 (BO).
URL:https://bologna.federmanager.it/events/sostenibilita-e-sviluppo-del-bus
 iness/
ORGANIZER;CN=Camplus College Alma Mater:
LOCATION:Via Giovanni Antonio Sacco 12\, Bologna
END:VEVENT
END:VCALENDAR