BEGIN:VCALENDAR
VERSION:2.0
PRODID:-//RIGHTHERE//CALENDARIZE IT V3.2//EN
BEGIN:VTIMEZONE
TZID:Europe/Rome
BEGIN:STANDARD
DTSTART:20251026T010000
TZOFFSETFROM:+0200
TZOFFSETTO:+0100
TZNAME:CET
END:STANDARD
BEGIN:DAYLIGHT
DTSTART:20260329T010000
TZOFFSETFROM:+0100
TZOFFSETTO:+0200
TZNAME:CEST
END:DAYLIGHT
BEGIN:STANDARD
DTSTART:20261025T010000
TZOFFSETFROM:+0200
TZOFFSETTO:+0100
TZNAME:CET
END:STANDARD
END:VTIMEZONE
BEGIN:VEVENT
UID:16288-events@bologna.federmanager.it
DTSTART;TZID=Europe/Rome:20250217T173000
DTEND;TZID=Europe/Rome:20250217T193000
DTSTAMP;TZID=Europe/Rome:20250103T140656
SUMMARY:CULTURA DEL DATO E INTELLIGENZA ARTIFICIALE
URL:https://bologna.federmanager.it/events/cultura-del-dato-e-intelligenza-
 artificiale/
ORGANIZER;CN=Commissione Manager Evolution - Quadri e Manager apicali:
LOCATION:Federmanager Bologna - Ferrara - Ravenna
END:VEVENT
END:VCALENDAR