BEGIN:VCALENDAR
VERSION:2.0
PRODID:-//RIGHTHERE//CALENDARIZE IT V3.2//EN
BEGIN:VTIMEZONE
TZID:Europe/Rome
BEGIN:STANDARD
DTSTART:20251026T010000
TZOFFSETFROM:+0200
TZOFFSETTO:+0100
TZNAME:CET
END:STANDARD
BEGIN:DAYLIGHT
DTSTART:20260329T010000
TZOFFSETFROM:+0100
TZOFFSETTO:+0200
TZNAME:CEST
END:DAYLIGHT
BEGIN:STANDARD
DTSTART:20261025T010000
TZOFFSETFROM:+0200
TZOFFSETTO:+0100
TZNAME:CET
END:STANDARD
END:VTIMEZONE
BEGIN:VEVENT
UID:15727-events@bologna.federmanager.it
DTSTART;TZID=Europe/Rome:20241022T180000
DTEND;TZID=Europe/Rome:20241022T203000
DTSTAMP;TZID=Europe/Rome:20240807T120550
SUMMARY:COMMISSIONE INVESTIMENTI
DESCRIPTION:Martedì 22 ottobre 2024\, dalle 18.00 alle 20.30\, in presenza
 presso la nostra sede di Villanova di Castenaso e on line su zoom\, offrir
 emo spunti e consigli di investimento.
URL:https://bologna.federmanager.it/events/commissione-investimenti/
ORGANIZER;CN=Commissione Investimenti:
LOCATION:Federmanager Bologna - Ferrara - Ravenna
END:VEVENT
END:VCALENDAR