BEGIN:VCALENDAR
VERSION:2.0
PRODID:-//RIGHTHERE//CALENDARIZE IT V3.2//EN
BEGIN:VTIMEZONE
TZID:Europe/Rome
BEGIN:STANDARD
DTSTART:20251026T010000
TZOFFSETFROM:+0200
TZOFFSETTO:+0100
TZNAME:CET
END:STANDARD
BEGIN:DAYLIGHT
DTSTART:20260329T010000
TZOFFSETFROM:+0100
TZOFFSETTO:+0200
TZNAME:CEST
END:DAYLIGHT
BEGIN:STANDARD
DTSTART:20261025T010000
TZOFFSETFROM:+0200
TZOFFSETTO:+0100
TZNAME:CET
END:STANDARD
END:VTIMEZONE
BEGIN:VEVENT
UID:15581-events@bologna.federmanager.it
DTSTART;TZID=Europe/Rome:20241024T183000
DTEND;TZID=Europe/Rome:20241024T203000
DTSTAMP;TZID=Europe/Rome:20241001T084652
SUMMARY:ELEZIONI REGIONALI: Cida incontra la candidata Elena Ugolini
DESCRIPTION:In occasione delle imminenti elezioni regionali 2024 Cida Emili
 a Romagna\, insieme alle associazioni aderenti\, tra le quali Federmanager
 \, organizza un incontro con i candidati alla Presidenza della Regione Emi
 lia Romagna\, Michele De Pascale ed Elena Ugolini.\n
URL:https://bologna.federmanager.it/events/cida-incontra-elena-ugolini/
ORGANIZER;CN=CIDA:
LOCATION:Federmanager Bologna - Ferrara - Ravenna
END:VEVENT
END:VCALENDAR