BEGIN:VCALENDAR
VERSION:2.0
PRODID:-//RIGHTHERE//CALENDARIZE IT V3.2//EN
BEGIN:VTIMEZONE
TZID:Europe/Rome
BEGIN:STANDARD
DTSTART:20251026T010000
TZOFFSETFROM:+0200
TZOFFSETTO:+0100
TZNAME:CET
END:STANDARD
BEGIN:DAYLIGHT
DTSTART:20260329T010000
TZOFFSETFROM:+0100
TZOFFSETTO:+0200
TZNAME:CEST
END:DAYLIGHT
BEGIN:STANDARD
DTSTART:20261025T010000
TZOFFSETFROM:+0200
TZOFFSETTO:+0100
TZNAME:CET
END:STANDARD
END:VTIMEZONE
BEGIN:VEVENT
UID:11730-events@bologna.federmanager.it
DTSTART;TZID=Europe/Rome:20220610T093000
DTEND;TZID=Europe/Rome:20220610T173000
DTSTAMP;TZID=Europe/Rome:20220512T164033
SUMMARY:DONNE E MANAGEMENT: Incontro del Gruppo Minerva
URL:https://bologna.federmanager.it/events/donne-e-management-minerva/
ORGANIZER;CN=Fedemanager Bologna - Ferrara - Ravenna:
LOCATION:Palazzo Loup Loiano
END:VEVENT
END:VCALENDAR